nrows 332
ncols 316
nbands 1
nbits 16
layout bil
byteorder I
ulxmap -3937500
ulymap 4337500
xdim 25000
ydim 25000
