nrows 448
ncols 304
nbands 1
nbits 16
layout bil
byteorder I
ulxmap -3837500
ulymap 5837500
xdim 25000
ydim 25000
