nrows 721
ncols 721
nbands 1
nbits 16
layout bsq
byteorder I
ulxmap -9024309
ulymap 9024309
xdim 25067.525
ydim 25067.525
