nrows 1441
ncols 1441
nbands 1
nbits 16
layout bsq
byteorder I
ulxmap -9024309
ulymap 9024309
xdim 12533.7625
ydim 12533.7625
