nrows 1171
ncols 2766
nbands 1
nbits 16
byteorder I
layout bsq
ulxmap -17321659.7750
ulymap 7332251.0625
xdim 12533.7625
ydim 12533.7625
